BEGIN:VCALENDAR
VERSION:2.0
PRODID:-//eventon.com NONSGML v1.0//EN
BEGIN:VEVENT
UID:69e9dbf2c6c9e
DTSTAMP:20260423T084434
DTSTART:20210820T070000Z
DTEND:20210820T080000Z
TZID:Pacific/Midway
LOCATION:
SUMMARY:Warsaw\,  Poland
DESCRIPTION: Chopin and His Europe Festival Recital Alena Baeva\,  violin\nhttps://vadymkholodenko.com/events/recital-with-alena-baeva-at-chopin-and-his-europe-festival-warsaw-poland
URL:https://vadymkholodenko.com/events/recital-with-alena-baeva-at-chopin-and-his-europe-festival-warsaw-poland
END:VEVENT
END:VCALENDAR