BEGIN:VCALENDAR
VERSION:2.0
PRODID:-//eventon.com NONSGML v1.0//EN
BEGIN:VEVENT
UID:69e5ea171b8dd
DTSTAMP:20260420T085551
DTSTART:20210429
DTEND:20210429
TZID:UTC
LOCATION:
SUMMARY:Recital in Parma
DESCRIPTION: Recital in Parma\nhttps://vadymkholodenko.com/events/recital-in-parma
URL:https://vadymkholodenko.com/events/recital-in-parma
END:VEVENT
END:VCALENDAR