BEGIN:VCALENDAR
VERSION:2.0
PRODID:-//eventon.com NONSGML v1.0//EN
BEGIN:VEVENT
UID:69e9dd7b8f30d
DTSTAMP:20260423T085107
DTSTART:20191217T190000Z
DTEND:20191217T235000Z
TZID:UTC
LOCATION:
SUMMARY:Moscow\,  Russia
DESCRIPTION: Recital\nhttps://vadymkholodenko.com/events/moscow-russia-3
URL:https://vadymkholodenko.com/events/moscow-russia-3
END:VEVENT
END:VCALENDAR