BEGIN:VCALENDAR
VERSION:2.0
PRODID:-//eventon.com NONSGML v1.0//EN
BEGIN:VEVENT
UID:69e9dc0856e9d
DTSTAMP:20260423T084456
DTSTART:20190208T193000Z
DTEND:20190208T235000Z
TZID:UTC
LOCATION:Konservatoriets Koncertsal 
SUMMARY:Copenhagen Philharmonic
DESCRIPTION: Prokofiev: Piano Concerto No 3 Conductor: Lan Shiu\nhttps://vadymkholodenko.com/events/copenhagen-philharmonic-3
URL:https://vadymkholodenko.com/events/copenhagen-philharmonic-3
END:VEVENT
END:VCALENDAR